Workbook
Name LIST_APPROVAL: 'DATA SHEET'!$F$2:$F$3
Name LIST_CODE: 'DATA SHEET'!$A$2:$A$16
Name LIST_COST: 'DATA SHEET'!$G$2:$G$5
Name LIST_DEPARTMENT: 'DATA SHEET'!$C$2:$C$60
Name LIST_DRIVEN: 'DATA SHEET'!$B$2:$B$3
Name LIST_LOCATION: 'DATA SHEET'!$E$2:$E$5
Name LIST_TYPE: 'DATA SHEET'!$D$2:$D$45

Sheet Cover
D2: Company | E2: NCC
A4: Asset # | B4: 215246 | C4: Bumper # | E4: 101022610 Marshal | G4: RO # | H4: 3655513
A6: Year | B6: 2015 | C6: Make | D6: CLUB CAR | F6: Model | G6: TRANS
A8: Type | B8: UTILITY CART | F8: Miles/Hours | G8: 964
D10: General Description of Repairs Needed
A11: 1 | B11: CODE L: GENERATOR, GENERATOR BELT, BATTERY
A13: 2 | B13: CODE L CONT'D : RECOMMENDED DISPOSAL
A15: 3
A17: 4
C19: Type of Estimate | F19: Cost Detail
E21: Parts | F21: Labor | G21: Sublet | H21: Total
B22: NCC - 4 | C22: Accident - Fleet | E22: =SUMIF('Estimate Detail'!$H$9:$H$44,4,'Estimate Detail'!$F$9:$F$44)+SUMIF('Estimate Detail (2)'!$H$9:$H$44,4,'Estimate Detail (2)'!$F$9:$F$44) -> 0 | F22: =SUMIF('Estimate Detail'!$H$9:$H$44,4,'Estimate Detail'!$J$9:$J$44)+SUMIF('Estimate Detail (2)'!$H$9:$H$44,4,'Estimate Detail (2)'!$J$9:$J$44) -> 0 | G22: =SUMIF('Estimate Detail'!$B$49:$B$51,4,'Estimate Detail'!$E$49:$E$51)+SUMIF('Estimate Detail (2)'!$B$49:$B$51,4,'Estimate Detail (2)'!$E$49:$E$51) -> 0 | H22: =SUM(E22:G22) -> 0
B23: NCC - 5 | C23: Operator Abuse | E23: =SUMIF('Estimate Detail'!$H$9:$H$44,5,'Estimate Detail'!$F$9:$F$44)+SUMIF('Estimate Detail (2)'!$H$9:$H$44,5,'Estimate Detail (2)'!$F$9:$F$44) -> 0 | F23: =SUMIF('Estimate Detail'!$H$9:$H$44,5,'Estimate Detail'!$J$9:$J$44)+SUMIF('Estimate Detail (2)'!$H$9:$H$44,5,'Estimate Detail (2)'!$J$9:$J$44) -> 0 | G23: =SUMIF('Estimate Detail'!$B$49:$B$51,5,'Estimate Detail'!$E$49:$E$51)+SUMIF('Estimate Detail (2)'!$B$49:$B$51,5,'Estimate Detail (2)'!$E$49:$E$51) -> 0 | H23: =SUM(E23:G23) -> 0
B24: NCC - 6 | C24: Vandalism | E24: =SUMIF('Estimate Detail'!$H$9:$H$44,6,'Estimate Detail'!$F$9:$F$44)+SUMIF('Estimate Detail (2)'!$H$9:$H$44,6,'Estimate Detail (2)'!$F$9:$F$44) -> 0 | F24: =SUMIF('Estimate Detail'!$H$9:$H$44,6,'Estimate Detail'!$J$9:$J$44)+SUMIF('Estimate Detail (2)'!$H$9:$H$44,6,'Estimate Detail (2)'!$J$9:$J$44) -> 0 | G24: =SUMIF('Estimate Detail'!$B$49:$B$51,6,'Estimate Detail'!$E$49:$E$51)+SUMIF('Estimate Detail (2)'!$B$49:$B$51,6,'Estimate Detail (2)'!$E$49:$E$51) -> 0 | H24: =SUM(E24:G24) -> 0
B25: NCC - 7 | C25: FM Directed | E25: =SUMIF('Estimate Detail'!$H$9:$H$44,7,'Estimate Detail'!$F$9:$F$44)+SUMIF('Estimate Detail (2)'!$H$9:$H$44,7,'Estimate Detail (2)'!$F$9:$F$44) -> 0 | F25: =SUMIF('Estimate Detail'!$H$9:$H$44,7,'Estimate Detail'!$J$9:$J$44)+SUMIF('Estimate Detail (2)'!$H$9:$H$44,7,'Estimate Detail (2)'!$J$9:$J$44) -> 0 | G25: =SUMIF('Estimate Detail'!$B$49:$B$51,7,'Estimate Detail'!$E$49:$E$51)+SUMIF('Estimate Detail (2)'!$B$49:$B$51,7,'Estimate Detail (2)'!$E$49:$E$51) -> 0 | H25: =SUM(E25:G25) -> 0
B26: NCC - 9 | C26: Capital Improve. | E26: =SUMIF('Estimate Detail'!$H$9:$H$44,9,'Estimate Detail'!$F$9:$F$44)+SUMIF('Estimate Detail (2)'!$H$9:$H$44,9,'Estimate Detail (2)'!$F$9:$F$44) -> 0 | F26: =SUMIF('Estimate Detail'!$H$9:$H$44,9,'Estimate Detail'!$J$9:$J$44)+SUMIF('Estimate Detail (2)'!$H$9:$H$44,9,'Estimate Detail (2)'!$J$9:$J$44) -> 0 | G26: =SUMIF('Estimate Detail'!$B$49:$B$51,9,'Estimate Detail'!$E$49:$E$51)+SUMIF('Estimate Detail (2)'!$B$49:$B$51,9,'Estimate Detail (2)'!$E$49:$E$51) -> 0 | H26: =SUM(E26:G26) -> 0
B27: NCC - D | C27: Pursuit Damage | E27: =SUMIF('Estimate Detail'!$H$9:$H$44,"D",'Estimate Detail'!$F$9:$F$44)+SUMIF('Estimate Detail (2)'!$H$9:$H$44,"D",'Estimate Detail (2)'!$F$9:$F$44) -> 0 | F27: =SUMIF('Estimate Detail'!$H$9:$H$44,"D",'Estimate Detail'!$J$9:$J$44)+SUMIF('Estimate Detail (2)'!$H$9:$H$44,"D",'Estimate Detail (2)'!$J$9:$J$44) -> 0 | G27: =SUMIF('Estimate Detail'!$B$49:$B$51,"D",'Estimate Detail'!$E$49:$E$51)+SUMIF('Estimate Detail (2)'!$B$49:$B$51,"D",'Estimate Detail (2)'!$E$49:$E$51) -> 0 | H27: =SUM(E27:G27) -> 0
B28: NCC - G | C28: Emergencies | E28: =SUMIF('Estimate Detail'!$H$9:$H$44,"G",'Estimate Detail'!$F$9:$F$44)+SUMIF('Estimate Detail (2)'!$H$9:$H$44,"G",'Estimate Detail (2)'!$F$9:$F$44) -> 0 | F28: =SUMIF('Estimate Detail'!$H$9:$H$44,"G",'Estimate Detail'!$J$9:$J$44)+SUMIF('Estimate Detail (2)'!$H$9:$H$44,"G",'Estimate Detail (2)'!$J$9:$J$44) -> 0 | G28: =SUMIF('Estimate Detail'!$B$49:$B$51,"G",'Estimate Detail'!$E$49:$E$51)+SUMIF('Estimate Detail (2)'!$B$49:$B$51,"G",'Estimate Detail (2)'!$E$49:$E$51) -> 0 | H28: =SUM(E28:G28) -> 0
B29: NCC - L | C29: Operational Loss | E29: =SUMIF('Estimate Detail'!$H$9:$H$44,"L",'Estimate Detail'!$F$9:$F$44)+SUMIF('Estimate Detail (2)'!$H$9:$H$44,"L",'Estimate Detail (2)'!$F$9:$F$44) -> 692 | F29: =SUMIF('Estimate Detail'!$H$9:$H$44,"L",'Estimate Detail'!$J$9:$J$44)+SUMIF('Estimate Detail (2)'!$H$9:$H$44,"L",'Estimate Detail (2)'!$J$9:$J$44) -> 132 | G29: =SUMIF('Estimate Detail'!$B$49:$B$51,"L",'Estimate Detail'!$E$49:$E$51)+SUMIF('Estimate Detail (2)'!$B$49:$B$51,"L",'Estimate Detail (2)'!$E$49:$E$51) -> 0 | H29: =SUM(E29:G29) -> 824
B30: NCC - M | C30: Accident - Risk | E30: =SUMIF('Estimate Detail'!$H$9:$H$44,"M",'Estimate Detail'!$F$9:$F$44)+SUMIF('Estimate Detail (2)'!$H$9:$H$44,"M",'Estimate Detail (2)'!$F$9:$F$44) -> 0 | F30: =SUMIF('Estimate Detail'!$H$9:$H$44,"M",'Estimate Detail'!$J$9:$J$44)+SUMIF('Estimate Detail (2)'!$H$9:$H$44,"M",'Estimate Detail (2)'!$J$9:$J$44) -> 0 | G30: =SUMIF('Estimate Detail'!$B$49:$B$51,"M",'Estimate Detail'!$E$49:$E$51)+SUMIF('Estimate Detail (2)'!$B$49:$B$51,"M",'Estimate Detail (2)'!$E$49:$E$51) -> 0 | H30: =SUM(E30:G30) -> 0
B31: Contract Repairs | E31: =SUMIF('Estimate Detail'!$H$9:$H$44,"Contract",'Estimate Detail'!$F$9:$F$44)+SUMIF('Estimate Detail (2)'!$H$9:$H$44,"Contract",'Estimate Detail (2)'!$F$9:$F$44) -> 0 | F31: =SUMIF('Estimate Detail'!$H$9:$H$44,"Contract",'Estimate Detail'!$J$9:$J$44)+SUMIF('Estimate Detail (2)'!$H$9:$H$44,"Contract",'Estimate Detail (2)'!$J$9:$J$44) -> 0 | G31: =SUMIF('Estimate Detail'!$B$49:$B$51,"Contract",'Estimate Detail'!$E$49:$E$51)+SUMIF('Estimate Detail (2)'!$B$49:$B$51,"Contract",'Estimate Detail (2)'!$E$49:$E$51) -> 0 | H31: =SUM(E31:G31) -> 0
B32: Disposal Recommended | E32: =SUMIF('Estimate Detail'!$H$9:$H$44,"Disposal",'Estimate Detail'!$F$9:$F$44)+SUMIF('Estimate Detail (2)'!$H$9:$H$44,"Disposal",'Estimate Detail (2)'!$F$9:$F$44) -> 0 | F32: =SUMIF('Estimate Detail'!$H$9:$H$44,"Disposal",'Estimate Detail'!$J$9:$J$44)+SUMIF('Estimate Detail (2)'!$H$9:$H$44,"Disposal",'Estimate Detail (2)'!$J$9:$J$44) -> 0 | G32: =SUMIF('Estimate Detail'!$B$49:$B$51,"Disposal",'Estimate Detail'!$E$49:$E$51)+SUMIF('Estimate Detail (2)'!$B$49:$B$51,"Disposal",'Estimate Detail (2)'!$E$49:$E$51) -> 0 | H32: =SUM(E32:G32) -> 0
B33: Continuation Approval | E33: =SUMIF('Estimate Detail'!$H$9:$H$44,"Continuation",'Estimate Detail'!$F$9:$F$44)+SUMIF('Estimate Detail (2)'!$H$9:$H$44,"Continuation",'Estimate Detail (2)'!$F$9:$F$44) -> 0 | F33: =SUMIF('Estimate Detail'!$H$9:$H$44,"Continuation",'Estimate Detail'!$J$9:$J$44)+SUMIF('Estimate Detail (2)'!$H$9:$H$44,"Continuation",'Estimate Detail (2)'!$J$9:$J$44) -> 0 | G33: =SUMIF('Estimate Detail'!$B$49:$B$51,"Continuation",'Estimate Detail'!$E$49:$E$51)+SUMIF('Estimate Detail (2)'!$B$49:$B$51,"Continuation",'Estimate Detail (2)'!$E$49:$E$51) -> 0 | H33: =SUM(E33:G33) -> 0
B34: 2nd Continuation Approval | E34: =SUMIF('Estimate Detail'!$H$9:$H$44,"2nd Continuation",'Estimate Detail'!$F$9:$F$44)+SUMIF('Estimate Detail (2)'!$H$9:$H$44,"2nd Continuation",'Estimate Detail (2)'!$F$9:$F$44) -> 0 | F34: =SUMIF('Estimate Detail'!$H$9:$H$44,"2nd Continuation",'Estimate Detail'!$J$9:$J$44)+SUMIF('Estimate Detail (2)'!$H$9:$H$44,"2nd Continuation",'Estimate Detail (2)'!$J$9:$J$44) -> 0 | G34: =SUMIF('Estimate Detail'!$B$49:$B$51,"2nd Continuation",'Estimate Detail'!$E$49:$E$51)+SUMIF('Estimate Detail (2)'!$B$49:$B$51,"2nd Continuation",'Estimate Detail (2)'!$E$49:$E$51) -> 0 | H34: =SUM(E34:G34) -> 0
B35: 3rd Continuation Approval | E35: =SUMIF('Estimate Detail'!$H$9:$H$44,"3rd Continuation",'Estimate Detail'!$F$9:$F$44)+SUMIF('Estimate Detail (2)'!$H$9:$H$44,"3rd Continuation",'Estimate Detail (2)'!$F$9:$F$44) -> 0 | F35: =SUMIF('Estimate Detail'!$H$9:$H$44,"3rd Continuation",'Estimate Detail'!$J$9:$J$44)+SUMIF('Estimate Detail (2)'!$H$9:$H$44,"3rd Continuation",'Estimate Detail (2)'!$J$9:$J$44) -> 0 | G35: =SUMIF('Estimate Detail'!$B$49:$B$51,"3rd Continuation",'Estimate Detail'!$E$49:$E$51)+SUMIF('Estimate Detail (2)'!$B$49:$B$51,"3rd Continuation",'Estimate Detail (2)'!$E$49:$E$51) -> 0 | H35: =SUM(E35:G35) -> 0
G36: Total Cost | H36: =SUM(H22:H35) -> 824
A38: Unit can | B38: CAN | C38: be driven/operated
A40: Unit presently located at | D40: BROAD STREET
A42: Prepared & Submitted by | D42: FL | E42: FVS Approval | F42: TP | G42: Date | H42: 45854
E44: County Fleet Manager Response
C46: Returned for Information | F46: Date
C47: Disposal Approval | F47: Date
C48: Disapproved | F48: Date
C49: Contract Repair Approval | F49: Date
C50: Non-Contract Approval | F50: Date
C51: Continuation Approval | F51: Date
C52: 2nd Continuation Approval | F52: Date
C53: 3rd Continuation Approval | F53: Date
A56: Authorization # | F56: Charge Code
A58: Approval Signature | G58: Date

Sheet Estimate Detail
C1: WO # | D1: =Cover!$H$4 -> 3655513 | E1: Year | F1: =Cover!$B$6 -> 2015
C2: Asset # | D2: =Cover!$B$4 -> 215246 | E2: Make | F2: =Cover!$D$6 -> CLUB CAR
C3: Bumper # | D3: =Cover!$D$4 -> 0 | E3: Model | F3: =Cover!$G$6 -> TRANS
C4: Mileage | D4: =Cover!$G$8 -> 964 | E4: Company | F4: =Cover!E2 -> NCC
C5: Dept | D5: =Cover!$E$4 -> 101022610 Marshal | E5: Type | F5: =Cover!$B$8 -> UTILITY CART
E7: Unit | F7: Total | H7: NCC | I7: Labor | J7: Labor
B8: Qty | C8: Part Number | D8: Part Description | E8: Price | F8: Price | G8: Description of Work | H8: CODE | I8: Hours | J8: Subtotal
A9: =Cover!B11 -> CODE L: GENERATOR, GENERATOR BELT, BATTERY | B9: 1 | D9: GENERATOR | E9: 595 | F9: =B9*E9 -> 595 | G9: REPLACE | H9: L | I9: 1.5 | J9: =I9*$J$46 -> 49.5
B10: 1 | D10: GENERATOR BELT | E10: 12 | F10: =B10*E10 -> 12 | G10: REPLACE | H10: =$H$9 -> L | I10: 1.5 | J10: =I10*$J$46 -> 49.5
B11: 1 | D11: BATTERY | E11: 85 | F11: =B11*E11 -> 85 | G11: REPLACE | H11: =$H$9 -> L | I11: 1 | J11: =I11*$J$46 -> 33
F12: =B12*E12 -> 0 | H12: =$H$9 -> L | J12: =I12*$J$46 -> 0
F13: =B13*E13 -> 0 | H13: =$H$9 -> L | J13: =I13*$J$46 -> 0
F14: =B14*E14 -> 0 | H14: =$H$9 -> L | J14: =I14*$J$46 -> 0
F15: =B15*E15 -> 0 | H15: =$H$9 -> L | J15: =I15*$J$46 -> 0
F16: =B16*E16 -> 0 | H16: =$H$9 -> L | J16: =I16*$J$46 -> 0
F17: =B17*E17 -> 0 | H17: =$H$9 -> L | J17: =I17*$J$46 -> 0
F18: =B18*E18 -> 0 | H18: =$H$9 -> L | J18: =I18*$J$46 -> 0
A19: =Cover!B13 -> CODE L CONT'D : RECOMMENDED DISPOSAL | F19: =B19*E19 -> 0 | G19: RECOMMEND DISPOSAL | H19: Disposal | J19: =I19*$J$46 -> 0
F20: =B20*E20 -> 0 | H20: =$H$19 -> Disposal | J20: =I20*$J$46 -> 0
F21: =B21*E21 -> 0 | H21: =$H$19 -> Disposal | J21: =I21*$J$46 -> 0
F22: =B22*E22 -> 0 | H22: =$H$19 -> Disposal | J22: =I22*$J$46 -> 0
F23: =B23*E23 -> 0 | H23: =$H$19 -> Disposal | J23: =I23*$J$46 -> 0
F24: =B24*E24 -> 0 | H24: =$H$19 -> Disposal | J24: =I24*$J$46 -> 0
F25: =B25*E25 -> 0 | H25: =$H$19 -> Disposal | J25: =I25*$J$46 -> 0
F26: =B26*E26 -> 0 | H26: =$H$19 -> Disposal | J26: =I26*$J$46 -> 0
F27: =B27*E27 -> 0 | H27: =$H$19 -> Disposal | J27: =I27*$J$46 -> 0
A28: =Cover!B15 -> 0 | F28: =B28*E28 -> 0 | J28: =I28*$J$46 -> 0
F29: =B29*E29 -> 0 | H29: =$H$28 -> 0 | J29: =I29*$J$46 -> 0
F30: =B30*E30 -> 0 | H30: =$H$28 -> 0 | J30: =I30*$J$46 -> 0
F31: =B31*E31 -> 0 | H31: =$H$28 -> 0 | J31: =I31*$J$46 -> 0
F32: =B32*E32 -> 0 | H32: =$H$28 -> 0 | J32: =I32*$J$46 -> 0
F33: =B33*E33 -> 0 | H33: =$H$28 -> 0 | J33: =I33*$J$46 -> 0
F34: =B34*E34 -> 0 | H34: =$H$28 -> 0 | J34: =I34*$J$46 -> 0
F35: =B35*E35 -> 0 | H35: =$H$28 -> 0 | J35: =I35*$J$46 -> 0
F36: =B36*E36 -> 0 | H36: =$H$28 -> 0 | J36: =I36*$J$46 -> 0
A37: =Cover!B17 -> 0 | F37: =B37*E37 -> 0 | J37: =I37*$J$46 -> 0
F38: =B38*E38 -> 0 | H38: =$H$37 -> 0 | J38: =I38*$J$46 -> 0
F39: =B39*E39 -> 0 | H39: =$H$37 -> 0 | J39: =I39*$J$46 -> 0
F40: =B40*E40 -> 0 | H40: =$H$37 -> 0 | J40: =I40*$J$46 -> 0
F41: =B41*E41 -> 0 | H41: =$H$37 -> 0 | J41: =I41*$J$46 -> 0
...

Sheet Estimate Detail (2)
C1: WO # | D1: =Cover!$H$4 -> 3655513 | E1: Year | F1: =Cover!$B$6 -> 2015
C2: Asset # | D2: =Cover!$B$4 -> 215246 | E2: Make | F2: =Cover!$D$6 -> CLUB CAR
C3: Bumper # | D3: =Cover!$D$4 -> 0 | E3: Model | F3: =Cover!$G$6 -> TRANS
C4: Mileage | D4: =Cover!$G$8 -> 964 | E4: Company | F4: =Cover!E2 -> NCC
C5: Dept | D5: =Cover!$E$4 -> 101022610 Marshal | E5: Type | F5: =Cover!$B$8 -> UTILITY CART
E7: Unit | F7: Total | H7: NCC | I7: Labor | J7: Labor
B8: Qty | C8: Part Number | D8: Part Description | E8: Price | F8: Price | G8: Description of Work | H8: CODE | I8: Hours | J8: Subtotal
A9: =Cover!B11 -> CODE L: GENERATOR, GENERATOR BELT, BATTERY | E9: 0 | F9: =B9*E9 -> 0 | J9: =I9*$J$46 -> 0
E10: 0 | F10: =B10*E10 -> 0 | H10: =$H$9 -> 0 | I10: 0 | J10: =I10*$J$46 -> 0
E11: 0 | F11: =B11*E11 -> 0 | H11: =$H$9 -> 0 | I11: 0 | J11: =I11*$J$46 -> 0
E12: 0 | F12: =B12*E12 -> 0 | H12: =$H$9 -> 0 | I12: 0 | J12: =I12*$J$46 -> 0
E13: 0 | F13: =B13*E13 -> 0 | H13: =$H$9 -> 0 | I13: 0 | J13: =I13*$J$46 -> 0
E14: 0 | F14: =B14*E14 -> 0 | H14: =$H$9 -> 0 | I14: 0 | J14: =I14*$J$46 -> 0
E15: 0 | F15: =B15*E15 -> 0 | H15: =$H$9 -> 0 | I15: 0 | J15: =I15*$J$46 -> 0
E16: 0 | F16: =B16*E16 -> 0 | H16: =$H$9 -> 0 | I16: 0 | J16: =I16*$J$46 -> 0
E17: 0 | F17: =B17*E17 -> 0 | H17: =$H$9 -> 0 | I17: 0 | J17: =I17*$J$46 -> 0
E18: 0 | F18: =B18*E18 -> 0 | H18: =$H$9 -> 0 | I18: 0 | J18: =I18*$J$46 -> 0
A19: =Cover!B13 -> CODE L CONT'D : RECOMMENDED DISPOSAL | E19: 0 | F19: =B19*E19 -> 0 | J19: =I19*$J$46 -> 0
E20: 0 | F20: =B20*E20 -> 0 | H20: =$H$19 -> 0 | J20: =I20*$J$46 -> 0
E21: 0 | F21: =B21*E21 -> 0 | H21: =$H$19 -> 0 | J21: =I21*$J$46 -> 0
E22: 0 | F22: =B22*E22 -> 0 | H22: =$H$19 -> 0 | J22: =I22*$J$46 -> 0
E23: 0 | F23: =B23*E23 -> 0 | H23: =$H$19 -> 0 | J23: =I23*$J$46 -> 0
E24: 0 | F24: =B24*E24 -> 0 | H24: =$H$19 -> 0 | J24: =I24*$J$46 -> 0
E25: 0 | F25: =B25*E25 -> 0 | H25: =$H$19 -> 0 | I25: 0 | J25: =I25*$J$46 -> 0
E26: 0 | F26: =B26*E26 -> 0 | H26: =$H$19 -> 0 | I26: 0 | J26: =I26*$J$46 -> 0
E27: 0 | F27: =B27*E27 -> 0 | H27: =$H$19 -> 0 | I27: 0 | J27: =I27*$J$46 -> 0
A28: =Cover!B15 -> 0 | E28: 0 | F28: =B28*E28 -> 0 | J28: =I28*$J$46 -> 0
E29: 0 | F29: =B29*E29 -> 0 | H29: =$H$28 -> 0 | I29: 0 | J29: =I29*$J$46 -> 0
E30: 0 | F30: =B30*E30 -> 0 | H30: =$H$28 -> 0 | I30: 0 | J30: =I30*$J$46 -> 0
E31: 0 | F31: =B31*E31 -> 0 | H31: =$H$28 -> 0 | I31: 0 | J31: =I31*$J$46 -> 0
E32: 0 | F32: =B32*E32 -> 0 | H32: =$H$28 -> 0 | I32: 0 | J32: =I32*$J$46 -> 0
E33: 0 | F33: =B33*E33 -> 0 | H33: =$H$28 -> 0 | I33: 0 | J33: =I33*$J$46 -> 0
E34: 0 | F34: =B34*E34 -> 0 | H34: =$H$28 -> 0 | I34: 0 | J34: =I34*$J$46 -> 0
E35: 0 | F35: =B35*E35 -> 0 | H35: =$H$28 -> 0 | I35: 0 | J35: =I35*$J$46 -> 0
E36: 0 | F36: =B36*E36 -> 0 | H36: =$H$28 -> 0 | I36: 0 | J36: =I36*$J$46 -> 0
A37: =Cover!B17 -> 0 | E37: 0 | F37: =B37*E37 -> 0 | I37: 0 | J37: =I37*$J$46 -> 0
E38: 0 | F38: =B38*E38 -> 0 | H38: =$H$37 -> 0 | I38: 0 | J38: =I38*$J$46 -> 0
E39: 0 | F39: =B39*E39 -> 0 | H39: =$H$37 -> 0 | I39: 0 | J39: =I39*$J$46 -> 0
E40: 0 | F40: =B40*E40 -> 0 | H40: =$H$37 -> 0 | I40: 0 | J40: =I40*$J$46 -> 0
E41: 0 | F41: =B41*E41 -> 0 | H41: =$H$37 -> 0 | I41: 0 | J41: =I41*$J$46 -> 0
...

Sheet DATA SHEET
A1: LIST_CODE | B1: LIST_DRIVEN | C1: LIST_DEPARTMENT | D1: LIST_TYPE | E1: LIST_LOCATION | F1: LIST_APPROVAL | G1: LIST_COST | H1: LIST_COMPANY
B2: CAN | C2: DEPARTMENT | G2: 33 | H2: ARC
A3: 4 | B3: CANNOT | C3: 221073110 AHCD | D3: AIR COMRESSOR | E3: BROAD STREET | F3: XX | G3: 53 | H3: NCC
A4: 5 | C4: 221073211 AHCD-Grant | D4: AIR HAMMER | E4: TOBACCO ROAD
A5: 6 | C5: 101039110 Animal Services | D5: ARBOR EQUIPMENT | E5: OPERATOR USING
A6: 7 | C6: 101033211 ARCCI | D6: ATTACHMENT
A7: 9 | C7: 217072210 Building Inspections | D7: AUTO-ADMIN
A8: D | C8: 101044950 RCCI Cemetaries | D8: AUTO-PATROL
A9: G | C9: 101016215 Central Services-FM-B&G-Judicial Center | D9: AUTO-PATROL-TRAFFIC
A10: L | C10: 101016211 Central Services-FM-B&G-Municipal | D10: AUTO-PUBLIC SAFETY
A11: M | C11: 101016213 Central Services-FM-B&G-Phinizy | D11: BOAT
A12: Contract | C12: 101016420 Central Services-FM-Construction Shop | D12: BUS
A13: Disposal | C13: 101016430 Central Services-FM-Records Retention | D13: FIRE TRUCK
A14: Continuation | C14: 101072910 Code Enforcement | D14: FORKLIFT
A15: 2nd Continuation | C15: 101036110 Coroner | D15: GENERAL EQUIPMENT
A16: 3rd Continuation | C16: 207021511 Crime Victim's Assistance | D16: GENERATOR
C17: 101021310 District Attorney | D17: HEAVY EQUIPMENT
C18: 101041110 Engineering | D18: LIGHT EQUIPMENT
C19: 101041260 Engineering-Maintenance | D19: LIGHT VEHICLE
C20: 276041610 Engineering-Street Lights | D20: MAINTENANCE EQUIPMENT
C21: 101041710 Engineering-Traffic Engineers | D21: MOTORCYCLE
C22: 101071211 Extension Services | D22: MOWER AGRICURTURAL
C23: 101015410 Information Technology | D23: MOWER-BATWING
C24: 101022110 Juvenile Courts | D24: MOWER-FLAIL
C25: 101065110 Library | D25: MOWER-PUSH
C26: 101015160 Licensing | D26: MOWER-RIDING
C27: 101022610 Marshal | D27: MOWER-ROTARY
C28: 101013110 Mayor | D28: PICKUP TRUCK-ALL
... C45: 581044320 Stormwater Utility | D45: VAN
C46: 101015710 Tax Assessors
C47: 101015610 Tax Commissioners
C48: 506043110 Utilities-Administration
C49: 506043560 Utilities-Canal Maintenance
C50: 506043410 Utilities-Construction
C51: 506043210 Utilities-Customer Service
C52: 506043580 Utilities-Facilities Maintenance
C53: 506043520 Utilities-Filter Plant
C54: 506043430 Utilities-Ft. Gordon
C55: 506043540 Utilities-Max Hicks Filter Plant
C56: 506043510 Utilities-RWPS
...
