Workbook
Name _RCS2: OFFSET('[1]SS Codes'!$E$2,0,0,COUNTA('[1]SS Codes'!$E:$E),1)
Name Agent: '[2]IIL 1'!$C$3:$C$150
Name Methods_of_Shipment: [2]POSTAL!$K$2:$K$5
Name Vendor: OFFSET([2]Vendors!$A$2,0,0,[2]Vendors!$C$1,1)

Sheet INVENTORY
A1: # | B1: MAKE | C1: MODEL | D1: PROC. | E1: SPEED | F1: MEM. | G1: OPTICAL | H1: WEBCAM | I1: BATT. | J1: LAPTOP SERIAL # | K1: SN INPUT | L1: HDD SERIAL # | M1: HDD SIZE | N1: FUNC. CODE | O1: COS. CODE | P1: PRE. SAN. | Q1: NON-DATA
A2: 1 | B2: DELL | C2: LATITUDE 7430 | D2: I5-1235U | E2: 4.4 | F2: 8G | G2: =IF($B2<>"","NO","") -> NO | H2: =IF($B2<>"","YES","") -> YES | I2: =IF($B2<>"","YES","") -> YES | J2: =UPPER(K2) -> 5HCT4X3 | K2: 5HCT4X3 | L2: S4GLNE0R306472 | M2: 512G | N2: =IF($B2<>"","F3","") -> F3 | O2: =IF($B2<>"","C5","") -> C5 | P2: =IF($B2<>"","ENCD","") -> ENCD | Q2: =IF($B2<>"","ND","") -> ND
A3: =IF(B3="","",A2+1) -> 2 | B3: HP | C3: ELITEBOOK 630 G9 | D3: I5-1245U | E3: 3.9 | F3: =IF($B3<>"","16G","") -> 16G | G3: =IF($B3<>"","NO","") -> NO | H3: =IF($B3<>"","YES","") -> YES | I3: =IF($B3<>"","YES","") -> YES | J3: =UPPER(K3) -> 2TK333026C | K3: 2tk333026c | L3: TW04D98N9DH0024Q005T | M3: 512G | N3: =IF($B3<>"","F3","") -> F3 | O3: =IF($B3<>"","C5","") -> C5 | P3: =IF($B3<>"","ENCD","") -> ENCD | Q3: =IF($B3<>"","ND","") -> ND
A4: =IF(B4="","",A3+1) -> 3 | B4: HP | C4: ELITEBOOK 630 G9 | D4: I5-1245U | E4: 3.9 | F4: =IF($B4<>"","16G","") -> 16G | G4: =IF($B4<>"","NO","") -> NO | H4: =IF($B4<>"","YES","") -> YES | I4: =IF($B4<>"","YES","") -> YES | J4: =UPPER(K4) -> 2TK333026M | K4: 2tk333026m | L4: 78IB73UUKAWP | M4: 512G | N4: =IF($B4<>"","F3","") -> F3 | O4: =IF($B4<>"","C5","") -> C5 | P4: =IF($B4<>"","ENCD","") -> ENCD | Q4: =IF($B4<>"","ND","") -> ND

Sheet QA SAMPLE SIZE SHEET
A1: =NOW() -> 45952.532
A2: DEPARTMENT: LAPTOPS
A3: LOT# | B3: L-14
A4: NOTE: A sample size test of any material that is purchased as tested or data wiped will be conducted on individual shipments. The sample size may vary between 1% and 5% based on results on initial sampling. If testing Failure Rate of initial sampling is greater than 1%, well will continue to test to 5% of the LOT. If the Failure Rate of initial sampling is greater than 5% the entire Lot will be re-tested. If the test results are 1% or Less, the Lot can be processed for Bid. The Quality Assurance Clerk will conduct a Full Function Test along with a Visual Inspection on 5 or more radom items within the LOT. Record the results below.
A5: # | B5: DISCRIPTION OF PRODUCT | E5: SERIAL NUMBER OR SKU | F5: FUNCTION & COSMETIC CODE | G5: PASS - FAIL
A6: 1 | B6: =TRANSPOSE(INVENTORY!C2) -> LATITUDE 7430 | E6: =TRANSPOSE(INVENTORY!J2) -> 5HCT4X3 | F6: F3-C5 | G6: PASS
A7: 2 | B7: =TRANSPOSE(INVENTORY!C3) -> ELITEBOOK 630 G9 | E7: =TRANSPOSE(INVENTORY!J3) -> 2TK333026C | F7: F3-C5 | G7: PASS
A8: 3 | B8: =TRANSPOSE(INVENTORY!C4) -> ELITEBOOK 630 G9 | E8: =TRANSPOSE(INVENTORY!J4) -> 2TK333026M | F8: F3-C5 | G8: PASS
A9: 4
A10: 5
A11: 6
A12: 7
A13: 8
A14: 9
A15: 10
A17: PASS READY FOR BID
A18: _____________________________________________________ QUALITY ASSURANCE CLERK SIGNATURE
A26: FAIL REWORK ENTIRE LOT
A27: _____________________________________________________ QUALITY ASSURANCE CLERK SIGNATURE

Sheet INVENTORY LOG SHEET
A1: INVENTORY LOG SHEET
B3: DEPARTMENT CHECK LIST
A4: DEPT | B4: DEPARTMENT: | G4: LAPTOPS
B5: DESCRIPTION: | G5: 12TH GEN
B6: COUNT: | G6: 3
B7: LOT# | G7: L-14
B8: DEPARTMENT SIGNATURE:_______________________DATE:______________
A10: FORK-LIFT | B10: FORK-LIFT CHECK LIST
B11: GROSS WEIGHT:
B12: TARE WEIGHT:
B13: NET WEIGHT:
C14: o | D14: WEIGHED ON SCALE #1 | H14: X | I14: WEIGHED ON SCALE #2
B15: FORK-LIFT DRIVER SIGNATURE:____________________DATE:______________
A17: QA CLERK | B17: QUALITY ASSURANCE CLERK CHECK LIST
B18: o | C18: Inspect the integrity of the shipment, Sign the Tare Sheet and place in Finished Product.
B19: o | C19: Attach 5 Tare Sheets - 1 on each side of the Gaylord/Pallet including the Top of the shipment.
B20: QA SEAL_______________________INSPECTION DATE:___________________
A22: CLERK | B22: CLERK INVENTORY CHECK LIST
B23: PRODUCT ENTERED INTO INVENTORY
B24: FRONT OFFICE CLERK SIGNATURE:_________________DATE:______________

Sheet TAGS
A1: LAPTOP TESTING RECORD | G1: LAPTOP TESTING RECORD
D3: ITEM # | E3: ='Data-PULLDOWNS'!B1 -> 1 | J3: ITEM # | K3: ='Data-PULLDOWNS'!$B$3+E3 -> 2
A4: Tester: | B4: RR | C4: Date: | D4: =NOW() -> 45952.532 | G4: Tester: | H4: RR | I4: Date: | J4: =NOW() -> 45952.532
A5: Type: | B5: LAPTOP | C5: SN: | D5: =VLOOKUP(E3,INVENTORY!$A$2:$N$96,10,FALSE) -> 5HCT4X3 | G5: Type: | H5: LAPTOP | I5: SN: | J5: =VLOOKUP(K3,INVENTORY!$A$2:$N$96,10,FALSE) -> 2TK333026C
A6: ="Make: " -> Make: | B6: =VLOOKUP(E3,INVENTORY!$A$2:$N$96,2,FALSE) -> DELL | C6: ="Model: " -> Model: | D6: =VLOOKUP(E3,INVENTORY!$A$2:$N$96,3,FALSE) -> LATITUDE 7430 | G6: ="Make: " -> Make: | H6: =VLOOKUP(K3,INVENTORY!$A$2:$N$96,2,FALSE) -> HP | I6: ="Model: " -> Model: | J6: =VLOOKUP(K3,INVENTORY!$A$2:$N$96,3,FALSE) -> ELITEBOOK 630 G9
A7: ="CPU/Speed: " -> CPU/Speed: | B7: =VLOOKUP(E3,INVENTORY!$A$2:$N$96,4,FALSE)&" / "&VLOOKUP(E3,INVENTORY!$A$2:$N$96,5,FALSE)&"GHz" -> I5-1235U / 4.4GHz | D7: ="Memory: " -> Memory: | E7: =VLOOKUP(E3,INVENTORY!$A$2:$N$96,6,FALSE) -> 8G | G7: ="CPU/Speed: " -> CPU/Speed: | H7: =VLOOKUP(K3,INVENTORY!$A$2:$N$96,4,FALSE)&" / "&VLOOKUP(K3,INVENTORY!$A$2:$N$96,5,FALSE)&"GHz" -> I5-1245U / 3.9GHz | J7: ="Memory: " -> Memory: | K7: =VLOOKUP(K3,INVENTORY!$A$2:$N$96,6,FALSE) -> 16G
A9: Key Function | C9: Pass | D9: Fail | E9: Comments | G9: Key Function | I9: Pass | J9: Fail | K9: Comments
A10: Hard Drive Removed | C10: X | G10: Hard Drive Removed | I10: X
A11: Install Memory | C11: X | G11: Install Memory | I11: X
A12: Power ON | C12: X | G12: Power ON | I12: X
A13: Record BIOS info | C13: X | G13: Record BIOS info | I13: X
A14: Check Optical Drive | C14: X | G14: Check Optical Drive | I14: X
A15: Power Off | C15: X | G15: Power Off | I15: X
A18: Tested for key functions,R2/Ready for Resale | G18: Tested for key functions,R2/Ready for Resale
A19: BIOS Lock | B19: Caddy | C19: Optical | D19: WebCam | E19: Battery | G19: BIOS Lock | H19: Caddy | I19: Optical | J19: WebCam | K19: Battery
C20: =VLOOKUP(E3,INVENTORY!$A$2:$N$96,7,FALSE) -> NO | D20: =VLOOKUP(E3,INVENTORY!$A$2:$N$96,8,FALSE) -> YES | E20: =VLOOKUP(E3,INVENTORY!$A$2:$N$96,9,FALSE) -> YES | I20: =VLOOKUP(K3,INVENTORY!$A$2:$N$96,7,FALSE) -> NO | J20: =VLOOKUP(K3,INVENTORY!$A$2:$N$96,8,FALSE) -> YES | K20: =VLOOKUP(K3,INVENTORY!$A$2:$N$96,9,FALSE) -> YES
A22: CPU Cosmetics Defects: | C22: ="Function Code: "&VLOOKUP(E3,INVENTORY!$A$2:$Q$96,14,FALSE) -> Function Code: F3 | G22: CPU Cosmetics Defects: | I22: ="Function Code: "&VLOOKUP(K3,INVENTORY!$A$2:$Q$96,14,FALSE) -> Function Code: F3
C24: ="Cosmetic Code: "&VLOOKUP(E3,INVENTORY!$A$2:$Q$96,15,FALSE) -> Cosmetic Code: C5 | I24: ="Cosmetic Code: "&VLOOKUP(K3,INVENTORY!$A$2:$Q$96,15,FALSE) -> Cosmetic Code: C5
A26: Casing | B26: Plugs/Ports | G26: Casing | H26: Plugs/Ports
A27: Pass | B27: Pass | G27: Pass | H27: Pass
A28: Fail | B28: Fail | D28: TRRC#:L.T.R. | G28: Fail | H28: Fail | J28: TRRC#:L.T.R.
A30: LAPTOP TESTING RECORD | G30: LAPTOP TESTING RECORD
D32: ITEM # | E32: ='Data-PULLDOWNS'!$B$3*2+E3 -> 3 | J32: ITEM # | K32: ='Data-PULLDOWNS'!$B$3*3+E3 -> 4
A33: Tester: | B33: RR | C33: Date: | D33: =NOW() -> 45952.532 | G33: Tester: | H33: RR | I33: Date: | J33: =NOW() -> 45952.532
A34: Type: | B34: LAPTOP | C34: SN: | D34: =VLOOKUP(E32,INVENTORY!$A$2:$N$96,10,FALSE) -> 2TK333026M | G34: Type: | H34: LAPTOP | I34: SN: | J34: =VLOOKUP(K32,INVENTORY!$A$2:$N$96,10,FALSE) -> #N/A
A35: ="Make: " -> Make: | B35: =VLOOKUP(E32,INVENTORY!$A$2:$N$96,2,FALSE) -> HP | C35: ="Model: " -> Model: | D35: =VLOOKUP(E32,INVENTORY!$A$2:$N$96,3,FALSE) -> ELITEBOOK 630 G9 | G35: ="Make: " -> Make: | H35: =VLOOKUP(K32,INVENTORY!$A$2:$N$96,2,FALSE) -> #N/A | I35: ="Model: " -> Model: | J35: =VLOOKUP(K32,INVENTORY!$A$2:$N$96,3,FALSE) -> #N/A
A36: ="CPU/Speed: " -> CPU/Speed: | B36: =VLOOKUP(E32,INVENTORY!$A$2:$N$96,4,FALSE)&" / "&VLOOKUP(E32,INVENTORY!$A$2:$N$96,5,FALSE)&"GHz" -> I5-1245U / 3.9GHz | D36: ="Memory: " -> Memory: | E36: =VLOOKUP(E32,INVENTORY!$A$2:$N$96,6,FALSE) -> 16G | G36: ="CPU/Speed: " -> CPU/Speed: | H36: =VLOOKUP(K32,INVENTORY!$A$2:$N$96,4,FALSE)&" / "&VLOOKUP(K32,INVENTORY!$A$2:$N$96,5,FALSE)&"GHz" -> #N/A | J36: ="Memory: " -> Memory: | K36: =VLOOKUP(K32,INVENTORY!$A$2:$N$96,6,FALSE) -> #N/A
A38: Key Function | C38: Pass | D38: Fail | E38: Comments | G38: Key Function | I38: Pass | J38: Fail | K38: Comments
A39: Hard Drive Removed | C39: X | G39: Hard Drive Removed | I39: X
A40: Install Memory | C40: X | G40: Install Memory | I40: X
A41: Power ON | C41: X | G41: Power ON | I41: X
A42: Record BIOS info | C42: X | G42: Record BIOS info | I42: X
A43: Check Optical Drive | C43: X | G43: Check Optical Drive | I43: X
A44: Power Off | C44: X | G44: Power Off | I44: X
A47: Tested for key functions,R2/Ready for Resale | G47: Tested for key functions,R2/Ready for Resale
A48: BIOS Lock | B48: Caddy | C48: Optical | D48: WebCam | E48: Battery | G48: BIOS Lock | H48: Caddy | I48: Optical | J48: WebCam | K48: Battery
C49: =VLOOKUP(E32,INVENTORY!$A$2:$N$96,7,FALSE) -> NO | D49: =VLOOKUP(E32,INVENTORY!$A$2:$N$96,8,FALSE) -> YES | E49: =VLOOKUP(E32,INVENTORY!$A$2:$N$96,9,FALSE) -> YES | I49: =VLOOKUP(K32,INVENTORY!$A$2:$N$96,7,FALSE) -> #N/A | J49: =VLOOKUP(K32,INVENTORY!$A$2:$N$96,8,FALSE) -> #N/A | K49: =VLOOKUP(K32,INVENTORY!$A$2:$N$96,9,FALSE) -> #N/A
A51: CPU Cosmetics Defects: | C51: ="Function Code: "&VLOOKUP(E32,INVENTORY!$A$2:$Q$96,14,FALSE) -> Function Code: F3 | G51: CPU Cosmetics Defects: | I51: ="Function Code: "&VLOOKUP(K32,INVENTORY!$A$2:$Q$96,14,FALSE) -> #N/A
C53: ="Cosmetic Code: "&VLOOKUP(E32,INVENTORY!$A$2:$Q$96,15,FALSE) -> Cosmetic Code: C5 | I53: ="Cosmetic Code: "&VLOOKUP(K32,INVENTORY!$A$2:$Q$96,15,FALSE) -> #N/A
A55: Casing | B55: Plugs/Ports | G55: Casing | H55: Plugs/Ports
...

Sheet TAGS-BLANK
A1: LAPTOP TESTING RECORD | G1: LAPTOP TESTING RECORD
D3: ITEM # | J3: ITEM #
A4: Tester: | B4: RR | C4: Date: | G4: Tester: | H4: RR | I4: Date:
A5: Type: | C5: SN: | G5: Type: | I5: SN:
A6: ="Make: " -> Make: | C6: ="Model: " -> Model: | G6: ="Make: " -> Make: | I6: ="Model: " -> Model:
A7: ="CPU/Speed: " -> CPU/Speed: | D7: ="Memory: " -> Memory: | G7: ="CPU/Speed: " -> CPU/Speed: | J7: ="Memory: " -> Memory:
A9: Key Function | C9: Pass | D9: Fail | E9: Comments | G9: Key Function | I9: Pass | J9: Fail | K9: Comments
A10: Hard Drive Removed | C10: X | G10: Hard Drive Removed | I10: X
A11: Install Memory | C11: X | G11: Install Memory | I11: X
A12: Power ON | C12: X | G12: Power ON | I12: X
A13: Record BIOS info | C13: X | G13: Record BIOS info | I13: X
A14: Check Optical Drive | C14: X | G14: Check Optical Drive | I14: X
A15: Power Off | C15: X | G15: Power Off | I15: X
A18: Tested for key functions,R2/Ready for Resale | G18: Tested for key functions,R2/Ready for Resale
A19: BIOS Lock | B19: Caddy | C19: Optical | D19: WedCam | E19: Battery | G19: BIOS Lock | H19: Caddy | I19: Optical | J19: WedCam | K19: Battery
A22: CPU Cosmetics Defects: | C22: Function Code: | G22: CPU Cosmetics Defects: | I22: Function Code:
C24: Cosmetic Code: | I24: Cosmetic Code:
A26: Casing | B26: Plugs/Ports | G26: Casing | H26: Plugs/Ports
A27: Pass | B27: Pass | G27: Pass | H27: Pass
A28: Fail | B28: Fail | D28: QP-TRRC-0019-01 | G28: Fail | H28: Fail | J28: QP-TRRC-0019-01
A30: LAPTOP TESTING RECORD | G30: LAPTOP TESTING RECORD
D32: ITEM # | J32: ITEM #
A33: Tester: | B33: RR | C33: Date: | G33: Tester: | H33: RR | I33: Date:
A34: Type: | C34: SN: | G34: Type: | I34: SN:
A35: ="Make: " -> Make: | C35: ="Model: " -> Model: | G35: ="Make: " -> Make: | I35: ="Model: " -> Model:
A36: ="CPU/Speed: " -> CPU/Speed: | D36: ="Memory: " -> Memory: | G36: ="CPU/Speed: " -> CPU/Speed: | J36: ="Memory: " -> Memory:
A38: Key Function | C38: Pass | D38: Fail | E38: Comments | G38: Key Function | I38: Pass | J38: Fail | K38: Comments
A39: Hard Drive Removed | C39: X | G39: Hard Drive Removed | I39: X
A40: Install Memory | C40: X | G40: Install Memory | I40: X
A41: Power ON | C41: X | G41: Power ON | I41: X
A42: Record BIOS info | C42: X | G42: Record BIOS info | I42: X
A43: Check Optical Drive | C43: X | G43: Check Optical Drive | I43: X
A44: Power Off | C44: X | G44: Power Off | I44: X
A47: Tested for key functions,R2/Ready for Resale | G47: Tested for key functions,R2/Ready for Resale
A48: BIOS Lock | B48: Caddy | C48: Optical | D48: WedCam | E48: Battery | G48: BIOS Lock | H48: Caddy | I48: Optical | J48: WedCam | K48: Battery
A51: CPU Cosmetics Defects: | C51: Function Code: | G51: CPU Cosmetics Defects: | I51: Function Code:
C53: Cosmetic Code: | I53: Cosmetic Code:
A55: Casing | B55: Plugs/Ports | G55: Casing | H55: Plugs/Ports
A56: Pass | B56: Pass | G56: Pass | H56: Pass
A57: Fail | B57: Fail | D57: QP-TRRC-0019-01 | G57: Fail | H57: Fail | J57: QP-TRRC-0019-01

Sheet Data-PULLDOWNS
A1: First Tag # | B1: 1
A2: Number of PCs | B2: =MAX(INVENTORY!A2:A325) -> 3
A3: Number of Pages | B3: =ROUNDUP(B2/4,0) -> 1
A5: To print a specific range of tags, enter the first tag number in "First Tag #" and the number of
A6: pages required (# of tags /4) in "Number of Pages"
A7: CAUTION: This will overwrite the automatic calculation!
A11: MAKE | B11: MODEL | C11: TYPE PROC. | D11: MEMORY | E11: OPTICAL | F11: WEBCAM | G11: BATTERY | H11: FUNC. CODE | I11: COSMETIC CODE | J11: PRE-SANITIZATION | K11: NON-DATA | L11: HDD SIZE | M11: TYPE
A12: DELL | B12: LATITUDE | C12: I3- | D12: 0G | E12: YES | F12: YES | G12: YES | H12: F1 | I12: C2 | J12: ENCD | K12: ND | L12: 256G | M12: NVMe M.2 - 22MM - 30MM
A13: HP | B13: ELITEBOOK | C13: I5- | D13: 2G | E13: NO | F13: NO | G13: NO | H13: F2 | I13: C3 | L13: 512G | M13: NVMe M.2 - 22MM - 42MM
A14: LENOVO | B14: PROBOOK | C14: I7- | D14: 4G | E14: N/A | F14: N/A | G14: N/A | H14: F3 | I14: C4 | L14: 1TB | M14: NVMe M.2 - 22MM - 80MM
A15: MSI | B15: PRECISION | C15: X- | D15: 8G | H15: F4 | I15: C5 | L15: 2TB | M15: NVMe M.2 - 22MM - 110MM
B16: XPS | C16: AMD- | D16: 16G | L16: 3TB | M16: SATA M.2 - 22MM - 30MM
B17: ZBOOK | C17: I9- | D17: 32G | L17: 4TB | M17: SATA M.2 - 22MM - 42MM
B18: NOTEBOOK | C18: I3 | M18: SATA M.2 - 22MM - 80MM
B19: IDEAPAD | C19: I5 | M19: SATA M.2 - 22MM - 110MM
B20: THINKPAD | C20: I7
B21: TOUGHBOOK | C21: I9
B22: CF- | C22: X
C23: AMD
