Workbook
Name _A320248: #REF!
Name _A320248: #REF!
Name _a466660: #REF!
Name _a466660: #REF!
Name _A66000: #REF!
Name _A66000: #REF!
Name _A66100: #REF!
Name _A66100: #REF!
Name _E365000: #REF!
Name _E365000: #REF!
Name _RCS2: OFFSET(#REF!,0,0,COUNTA(#REF!),1)
Name Agent: #REF!
Name E19HA17HCHY910248X: #REF!
Name E19HA17HCHY910248X: #REF!
Name Methods_of_Shipment: #REF!
Name NEWINFO: #REF!
Name NEWINFO: #REF!
Name Sdata: #REF!
Name Sdata: #REF!
Name Vendor: OFFSET(#REF!,0,0,#REF!,1)

Sheet BID SHEET
E3: Recycling facilities offer product return and item replacement or refund for electric equipment and components that are found not to meet the specific requirements. UNICOR warrants these items as described and tested in accordance with identified key functions for 14 days of receipt of product. If the item is not as described, or does not function as described, it shall be returned to the seller at no charge to the customer for a full refund, or replacement. All items have been assigned a Functionality Code and Cosmetic Code in accordance with 4.8a-P Sorting, Categorization, and Processing Procedure (See Attached)
B6: 1300 Metropolitan
B7: Leavenworth, KS 66048
A8: Lot # | C8: Laptop FY25-197
A9: Start Date | C9: 45888
A10: Description | C10: Laptops | E10: Qty: | F10: 264
A11: Item# | B11: Make | C11: Model | D11: Service Tag | E11: Funtion Code | F11: Cosmetic Code | G11: Non-Data | H11: Processor | I11: Speed GHZ | J11: Memory GB | K11: SKU | L11: Hard Drive | M11: CD/ DVD | N11: Battery | O11: Web Cam | P11: Touch Screen
A12: 1 | B12: DELL | C12: Latitude 5480 | D12: jh8vzq2 | E12: F3 – Key Functions Working | F12: C5 - USED VERY GOOD | G12: Evaluated as not containing Data | H12: i7-6600U | I12: 3.4 | J12: DDR4 16G | K12: 39375 | L12: N | M12: N | N12: Y | O12: Y | P12: N
A13: 2 | B13: DELL | C13: Latitude 5480 | D13: 3bbvzq2 | E13: F3 – Key Functions Working | F13: C5 - USED VERY GOOD | G13: Evaluated as not containing Data | H13: i7-6600U | I13: 3.4 | J13: DDR4 16G | K13: 39376 | L13: N | M13: N | N13: Y | O13: Y | P13: Y
A14: 3 | B14: DELL | C14: Latitude 5480 | D14: 57bvzq2 | E14: F3 – Key Functions Working | F14: C5 - USED VERY GOOD | G14: Evaluated as not containing Data | H14: i7-6600U | I14: 3.4 | J14: DDR4 16G | K14: 39377 | L14: N | M14: N | N14: Y | O14: Y | P14: Y
A15: 4 | B15: DELL | C15: Latitude 5480 | D15: 4y6vzq2 | E15: F3 – Key Functions Working | F15: C5 - USED VERY GOOD | G15: Evaluated as not containing Data | H15: i7-6600U | I15: 3.4 | J15: DDR4 16G | K15: 39378 | L15: N | M15: N | N15: Y | O15: Y | P15: Y
A16: 5 | B16: DELL | C16: Latitude 5480 | D16: gd17hr2 | E16: F3 – Key Functions Working | F16: C5 - USED VERY GOOD | G16: Evaluated as not containing Data | H16: i7-6600U | I16: 3.4 | J16: DDR4 16G | K16: 39379 | L16: N | M16: N | N16: Y | O16: Y | P16: Y
A17: 6 | B17: DELL | C17: Latitude 5480 | D17: hxqstn2 | E17: F3 – Key Functions Working | F17: C5 - USED VERY GOOD | G17: Evaluated as not containing Data | H17: i7-6600U | I17: 3.4 | J17: DDR4 16G | K17: 39380 | L17: N | M17: N | N17: Y | O17: Y | P17: Y
A18: 7 | B18: DELL | C18: Latitude 5480 | D18: c74vzq2 | E18: F3 – Key Functions Working | F18: C5 - USED VERY GOOD | G18: Evaluated as not containing Data | H18: i7-6600U | I18: 3.4 | J18: DDR4 16G | K18: 39381 | L18: N | M18: N | N18: Y | O18: Y | P18: Y
A19: 8 | B19: DELL | C19: Latitude 5480 | D19: cq8qtn2 | E19: F3 – Key Functions Working | F19: C5 - USED VERY GOOD | G19: Evaluated as not containing Data | H19: i7-6600U | I19: 3.4 | J19: DDR4 16G | K19: 39382 | L19: N | M19: N | N19: Y | O19: Y | P19: Y
A20: 9 | B20: DELL | C20: Latitude 5480 | D20: 8bstmq2 | E20: F3 – Key Functions Working | F20: C5 - USED VERY GOOD | G20: Evaluated as not containing Data | H20: i7-6600U | I20: 3.4 | J20: DDR4 16G | K20: 39383 | L20: N | M20: N | N20: Y | O20: Y | P20: Y
A21: 10 | B21: DELL | C21: Latitude 5480 | D21: 52cvzq2 | E21: F3 – Key Functions Working | F21: C5 - USED VERY GOOD | G21: Evaluated as not containing Data | H21: i7-6600U | I21: 3.4 | J21: DDR4 16G | K21: 39384 | L21: N | M21: N | N21: Y | O21: Y | P21: Y
A22: 11 | B22: DELL | C22: Latitude 5480 | D22: 5b7vzq2 | E22: F3 – Key Functions Working | F22: C5 - USED VERY GOOD | G22: Evaluated as not containing Data | H22: i7-6600U | I22: 3.4 | J22: DDR4 16G | K22: 39385 | L22: N | M22: N | N22: Y | O22: Y | P22: Y
A23: 12 | B23: DELL | C23: Latitude 5480 | D23: d38vzq2 | E23: F3 – Key Functions Working | F23: C5 - USED VERY GOOD | G23: Evaluated as not containing Data | H23: i7-6600U | I23: 3.4 | J23: DDR4 16G | K23: 39386 | L23: N | M23: N | N23: Y | O23: Y | P23: Y
... A275: 264 | B275: DELL | C275: Latitude 5480 | D275: h2jkwd2 | E275: F3 – Key Functions Working | F275: C5 - USED VERY GOOD | G275: Evaluated as not containing Data | H275: i7-7600U | I275: 3.9 | J275: DDR4 8G | K275: 13038 | L275: N | M275: N | N275: Y | O275: Y | P275: N
C277: LBS | F277: L | G277: W | H277: H
A278: WEIGHT: | E278: DIMENSIONS : | I278: UNITS: | J278: =F10 -> 264

Sheet LAPTOP TESTING RECORD
A1: LAPTOP TESTING RECORD FORM# qp7730-2 Effective Date: 9-15-21 | G1: LAPTOP TESTING RECORD FORM# qp7730-2 Effective Date: 9-15-21
A4: Tester: | B4: MM | D4: Date: | E4: ='BID SHEET'!C9 -> 45888 | G4: Tester: | H4: =B4 -> MM | J4: Date: | K4: =E4 -> 45888
A6: Make: | B6: ='BID SHEET'!B12 -> DELL | D6: Model: | E6: ='BID SHEET'!C12 -> Latitude 5480 | G6: Make: | H6: =B6 -> DELL | J6: Model: | K6: =E6 -> Latitude 5480
D7: Processor: | E7: ='BID SHEET'!H12 -> i7-6600U | J7: Processor: | K7: =E7 -> i7-6600U
A8: Processor Speed | C8: ='BID SHEET'!I12 -> 3.4 | D8: Memory: | E8: ='BID SHEET'!J12 -> DDR4 16G | G8: Processor Speed: | I8: =C8 -> 3.4 | J8: Memory: | K8: =E8 -> DDR4 16G
A9: Touch Screen | C9: ='BID SHEET'!P12 -> N | G9: Touch Screen | I9: =C9 -> N
A10: Key Function | C10: 0325-10 | D10: Fail | E10: Comments | G10: Key Function | I10: Pass | J10: Fail | K10: Comments
A11: Connect Hard Drive | E11: NA | G11: Connect Hard Drive | K11: NA
A12: Power Up | C12: X | G12: Power Up | I12: X
A13: Gets to Setup in BIOS | C13: X | G13: Gets to Setup in BIOS | I13: X
A14: Record BIOS info | C14: X | G14: Record BIOS info | I14: X
A15: Go to "C" Prompt | E15: NA | G15: Go to "C" Prompt
A16: Open/Close CD Drive | E16: NA | G16: Open/Close CD Drive | K16: NA
A17: Web Cam | C17: X | G17: Web Cam | I17: X
A18: Disconnect Hard Drive | E18: NA | G18: Disconnect Hard Drive | K18: NA
A19: Hard Drive Caddy CD-Rom CD-DVD/RW Battery Asset Tags Removed | G19: Hard Drive Caddy CD-Rom CD-DVD/RW Battery Asset Tags Removed
A22: Laptop Defects: | C22: Functionality Code (F3) | G22: Laptop Defects: | I22: Functionality Code (F3)
C23: Cosmetic Code | I23: Cosmetic Code
B24: : | C24: C6 C5 C4 C3 | H24: : | I24: C6 C5 C4 C3
C27: SER# | I27: SER#
A28: Screen | B28: Keyboard | C28: LOT# | D28: ='BID SHEET'!C8 -> Laptop FY25-197 | G28: Screen | H28: Keyboard | I28: LOT# | J28: =D28 -> Laptop FY25-197
A29: Pass | B29: Pass | C29: SKU# | G29: Pass | H29: Pass | I29: SKU#
A30: Fail | B30: Fail | C30: Code | G30: Fail | H30: Fail | I30: Code
A32: LAPTOP TESTING RECORD FORM# qp7730-2 Effective Date: 9-15-21 | G32: LAPTOP TESTING RECORD FORM# qp7730-2 Effective Date: 9-15-21
A35: =G4 -> Tester: | B35: =B4 -> MM | D35: =J4 -> Date: | E35: =E4 -> 45888 | G35: =A35 -> Tester: | H35: =B4 -> MM | J35: =D35 -> Date: | K35: =E4 -> 45888
A37: =A6 -> Make: | B37: =B6 -> DELL | D37: =J6 -> Model: | E37: =E6 -> Latitude 5480 | G37: =A6 -> Make: | H37: =B6 -> DELL | J37: =D37 -> Model: | K37: =E6 -> Latitude 5480
D38: Processor: | E38: =E7 -> i7-6600U | J38: Processor: | K38: =E7 -> i7-6600U
A39: =G8 -> Processor Speed: | C39: =C8 -> 3.4 | D39: =J8 -> Memory: | E39: =E8 -> DDR4 16G | G39: =A39 -> Processor Speed: | I39: =C8 -> 3.4 | J39: =D39 -> Memory: | K39: =E8 -> DDR4 16G
A40: Touch Screen | C40: =C9 -> N | G40: Touch Screen | I40: =C9 -> N
A41: Key Function | C41: Pass | D41: Fail | E41: Comments | G41: Key Function | I41: Pass | J41: Fail | K41: Comments
A42: Connect Hard Drive | E42: NA | G42: Connect Hard Drive | K42: NA
A43: Power Up | C43: X | G43: Power Up | I43: X
A44: Gets to Setup in BIOS | C44: X | G44: Gets to Setup in BIOS | I44: X
A45: Record BIOS info | C45: X | G45: Record BIOS info | I45: X
A46: Go to "C" Prompt | G46: Go to "C" Prompt
A47: Open/Close CD Drive | E47: NA | G47: Open/Close CD Drive | K47: NA
A48: Web Cam | C48: X | G48: Web Cam | I48: X
A49: Disconnect Hard Drive | E49: NA | G49: Disconnect Hard Drive | K49: NA
A50: Hard Drive Caddy CD-Rom CD-DVD/RW Battery Asset Tags Removed | G50: Hard Drive Caddy CD-Rom CD-DVD/RW Battery Asset Tags Removed
A53: Laptop Defects: | C53: Functionality Code (F3) | G53: Laptop Defects: | I53: Functionality Code (F3)
...

Sheet QA SAMPLE SIZE SHEET
A1: ='BID SHEET'!C9 -> 45888
A2: LOT # | B2: ='BID SHEET'!C8 -> Laptop FY25-197 | E2: Total Quantity: | F2: ='BID SHEET'!F10 -> 264
A3: DEPARTMENT: LAPTOP COMPUTER DEPARTMENT
A4: Model: | B4: ='BID SHEET'!B20 -> DELL | C4: ='BID SHEET'!C20 -> Latitude 5480
A5: NOTE: A sample size test of any material that is purchased as tested or data wiped will be conducted on individual shipments. The sample size may vary between 1% and 5% based on results on initial sampling. If testing Failure Rate of initial sampling is greater than 1%, well will continue to test to 5% of the LOT. If the Failure Rate of initial sampling is greater than 5% the entire Lot will be re-tested. If the test results are 1% or Less, the Lot can be processed for Bid. The Quality Assurance Clerk will conduct a Full Function Test along with a Visual Inspection on 5 or more radom items within the LOT. Record the results below.
A6: # | B6: DISCRIPTION OF PRODUCT | E6: SERIAL NUMBER OR SKU | F6: FUNCTION & COSMETIC CODE | G6: PASS - FAIL
A7: ='BID SHEET'!A12 -> 1 | B7: ='BID SHEET'!B12 -> DELL | C7: ='BID SHEET'!C12 -> Latitude 5480 | D7: ='BID SHEET'!H12 -> i7-6600U | E7: ='BID SHEET'!D12 -> jh8vzq2 | F7: F3, C5 | G7: Pass
A8: ='BID SHEET'!A13 -> 2 | B8: ='BID SHEET'!B13 -> DELL | C8: ='BID SHEET'!C13 -> Latitude 5480 | D8: ='BID SHEET'!H13 -> i7-6600U | E8: ='BID SHEET'!D13 -> 3bbvzq2 | F8: F3, C6 | G8: Pass
A9: ='BID SHEET'!A14 -> 3 | B9: ='BID SHEET'!B14 -> DELL | C9: ='BID SHEET'!C14 -> Latitude 5480 | D9: ='BID SHEET'!H14 -> i7-6600U | E9: ='BID SHEET'!D25 -> 1tcvzq2 | F9: F3, C7 | G9: Pass
A10: ='BID SHEET'!A15 -> 4 | B10: ='BID SHEET'!B15 -> DELL | C10: ='BID SHEET'!C15 -> Latitude 5480 | D10: ='BID SHEET'!H15 -> i7-6600U | E10: ='BID SHEET'!D26 -> 428vzq2 | F10: F3, C8 | G10: Pass
A11: ='BID SHEET'!A16 -> 5 | B11: ='BID SHEET'!B16 -> DELL | C11: ='BID SHEET'!C16 -> Latitude 5480 | D11: ='BID SHEET'!H16 -> i7-6600U | E11: ='BID SHEET'!D16 -> gd17hr2 | F11: F3, C9 | G11: Pass
A12: ='BID SHEET'!A17 -> 6 | B12: ='BID SHEET'!B17 -> DELL | C12: ='BID SHEET'!C17 -> Latitude 5480 | D12: ='BID SHEET'!H17 -> i7-6600U | E12: ='BID SHEET'!D17 -> hxqstn2 | F12: F3, C10 | G12: Pass
A13: ='BID SHEET'!A18 -> 7 | B13: ='BID SHEET'!B18 -> DELL | C13: ='BID SHEET'!C18 -> Latitude 5480 | D13: ='BID SHEET'!H18 -> i7-6600U | E13: ='BID SHEET'!D18 -> c74vzq2 | F13: F3, C11 | G13: Pass
A14: ='BID SHEET'!A19 -> 8 | B14: ='BID SHEET'!B19 -> DELL | C14: ='BID SHEET'!C19 -> Latitude 5480 | D14: ='BID SHEET'!H19 -> i7-6600U | E14: ='BID SHEET'!D30 -> gcp6pl2 | F14: F3, C12 | G14: Pass
A15: ='BID SHEET'!A20 -> 9 | B15: ='BID SHEET'!B20 -> DELL | C15: ='BID SHEET'!C20 -> Latitude 5480 | D15: ='BID SHEET'!H20 -> i7-6600U | E15: ='BID SHEET'!D31 -> 418vzq2 | F15: F3, C13 | G15: Pass
A16: ='BID SHEET'!A21 -> 10 | B16: ='BID SHEET'!B21 -> DELL | C16: ='BID SHEET'!C21 -> Latitude 5480 | D16: ='BID SHEET'!H21 -> i7-6600U | E16: ='BID SHEET'!D21 -> 52cvzq2 | F16: F3, C14 | G16: Pass
A17: ='BID SHEET'!A22 -> 11 | B17: ='BID SHEET'!B22 -> DELL | C17: ='BID SHEET'!C22 -> Latitude 5480 | D17: ='BID SHEET'!H22 -> i7-6600U | E17: ='BID SHEET'!D22 -> 5b7vzq2 | F17: F3, C15 | G17: Pass
A18: ='BID SHEET'!A23 -> 12 | B18: ='BID SHEET'!B23 -> DELL | C18: ='BID SHEET'!C23 -> Latitude 5480 | D18: ='BID SHEET'!H23 -> i7-6600U | E18: ='BID SHEET'!D23 -> d38vzq2 | F18: F3, C16 | G18: Pass
A19: ='BID SHEET'!A24 -> 13 | B19: ='BID SHEET'!B24 -> DELL | C19: ='BID SHEET'!C24 -> Latitude 5480 | D19: ='BID SHEET'!H24 -> i7-6600U | E19: ='BID SHEET'!D24 -> j7bvzq2 | F19: F3, C17 | G19: Pass
A20: ='BID SHEET'!A25 -> 14 | B20: ='BID SHEET'!B25 -> DELL | C20: ='BID SHEET'!C25 -> Latitude 5480 | D20: ='BID SHEET'!H25 -> i7-6600U | E20: ='BID SHEET'!D25 -> 1tcvzq2 | F20: F3, C18 | G20: Pass
A22: PASS READY FOR BID
A23: _____________________________________________________ QUALITY ASSURANCE CLERK SIGNATURE
A31: FAIL REWORK ENTIRE LOT
A32: _____________________________________________________ QUALITY ASSURANCE CLERK SIGNATURE

Sheet TARE SHEET
A1: LAPTOP COMPUTER
A3: LOT #
A4: ='BID SHEET'!C8 -> Laptop FY25-197
A6: Make: | B6: ='BID SHEET'!B12 -> DELL
A7: Model: | B7: ='BID SHEET'!C20 -> Latitude 5480
A8: CPU: | B8: ='BID SHEET'!H12 -> i7-6600U
A10: START DATE: | D10: ='BID SHEET'!C9 -> 45888
A11: SIZE:
A12: GROSS WEIGHT: | D12: =D14+D13 -> 822
A13: TARE WEIGHT: | D13: 30
A14: NET WEIGHT: | D14: =D15*D16 -> 792
A15: LAPTOP WEIGHT: | D15: 3
A16: QUANTITY: | D16: ='BID SHEET'!F10 -> 264
A17: QUALITY ASSURANCE CLERK
A18: The contents of this Gaylord/Pallet/Parcel has been verified and PASSED our Quality Assurance Inspection. The purpose of this system is to improve operations, reduce costs, increase reliability, and provide total customer satisfaction.
A19: QA SEAL: | D19: INSPECTION DATE:

Sheet INVENTORY
A1: INVENTORY LOG SHEET
B2: DEPARTMENT CHECK LIST
A3: DEPT | B3: LOT # | F3: ='BID SHEET'!C8 -> Laptop FY25-197
B4: START DATE: | F4: ='BID SHEET'!C9 -> 45888
B5: DEPARTMENT: | F5: LAPTOP COMPUTER DEPT.
B6: MAKE: | F6: ='BID SHEET'!B20 -> DELL
B7: MODEL: | F7: ='BID SHEET'!C20 -> Latitude 5480
B8: QUANTITY: | F8: ='BID SHEET'!F10 -> 264
B9: DEPARTMENT SIGNATURE: | I9: DATE:
A10: FORK-LIFT | B10: FORK-LIFT CHECK LIST
B11: GROSS WEIGHT: | F11: =F13+F12 -> 822
B12: TARE WEIGHT: | F12: ='TARE SHEET'!D13 -> 30
B13: NET WEIGHT: | F13: ='TARE SHEET'!D14 -> 792
C14: o | D14: WEIGHED ON SCALE #1 | G14: X | H14: WEIGHED ON SCALE #2
B15: FORK-LIFT DRIVER SIGNATURE: | I15: DATE:
A16: QA CLERK | B16: QUALITY ASSURANCE CLERK CHECK LIST
B17: o | C17: Inspect the integrity of the shipment, Sign the Tare Sheet and place in Finished Product.
B18: o | C18: Attach 5 Tare Sheets - 1 on each side of the Gaylord/Pallet including the Top of the shipment.
B19: QA SEAL: | F19: INSPECTION DATE:
A20: CLERK | B20: CLERK INVENTORY CHECK LIST
B21: PRODUCT ENTERED INTO INVENTORY
B22: FRONT OFFICE CLERK SIGNATURE: | I22: DATE:

Sheet Function & Cosmetic Description
A1: Product Functionality Description | B1: Cosmetic Category | D1: Category | E1: Cosmetic Description
A2: F1 – Collectible or Specialty equipment | B2: C6 – Used Excellent | D2: C0 | E2: Not categorized
A3: · Collectibles are rare, vintage, and no longer | B3: C5 – Used Very Good | D3: C1 | E3: Damaged (For materials recovery)
A4: manufactured or supported by original manufacturers | B4: C4 – Used Good | D4: C2 | E4: Used Poor – Heavy use and age
A5: · Specialty equipment are rare and specialized | B5: C3 – Used Fair | E5: · Cosmetic blemishes are significant, such as multiple heavy dents, may require repair
A6: equipment not generally available in retail. | E6: · Damages to latches, hinges, keyboards, etc. are prevalent
A7: · Inspected and determined to be viable for reuse | E7: · Critical parts are missing
A8: or parts. | D8: C3 | E8: Used Fair (Moderate use and age)
A9: · May have broken or missing pieces. | E9: · Cosmetic blemishes are consistent with wear, including multiple dents, discoloration, and light to heavy scratches
E10: · Damage to latches, hinges, keyboards, etc.
A11: F2 – Verified Specialty Equipment | B11: C7 – Certified Pre-Owned | E11: · Some parts, panels, bezels, or covers may be missing
A12: · Verified removed from operation with no known | B12: C6 – Used Excellent | D12: C4 | E12: Used Good
A13: defects in functionality | E13: · Cosmetic blemishes include scratches and/or other surface imperfections from consistent use, but equipment is in good condition overall
A14: · No physical damage or defects | E14: · Minor wear of labeling may be visible
A15: · No corrosion | E15: · Small dents and small areas of discoloration may be present from the removal of tags
A16: · No missing parts | E16: · No damage to latches or hinges, nor any missing parts, panels, bezels, or covers
A17: · Original part numbers and serial numbers verified | D17: C5 | E17: Used Very Good
A18: accurate | E18: · Cosmetic blemishes include minor scratches and/or other surface imperfections from
E19: · consistent use, but equipment is in good condition
A20: F3 – Key Functions Working | B20: C6 – Used Excellent | E20: · Minor wear of labeling may be visible
A21: · A subset of the original functions of the device that an | B21: C5 – Used Very Good | E21: · Minor dents and areas of discoloration from the removal of tags
A22: ordinary user of the device expects to function are | B22: C4 – Used Good | E22: · No missing parts
A23: verified working through manual or automated tests. | B23: C3 – Used Fair | D23: C6 | E23: Used Excellent
A24: · Software may not be loaded or configured | E24: · Overall excellent cosmetic condition
A25: · Hardware required for key functions to be tested may | E25: · May have light scratches or other minor blemishes from normal wear
A26: have been removed after testing (e.g. Hard Drive) | E26: · Minor cosmetic blemishes have no impact on the system’s overall functionality or
A27: · May be missing components not essential to key | E27: performance
A28: functions. | E28: · Fully cleaned with all non-original labels removed
A29: · Secondary functions may not be tested or working. | E29: · No missing parts
A30: · May not include Focus Materials (e.g. Battery) that | D30: C7 | E30: Certified Pre-Owned (Seller or Manufacturer Refurbished)
A31: are not working or not tested. | E31: · Used equipment that has been fully restored to like-new condition with warranty
A32: · All missing parts or cosmetic damages will be listed | E32: · Fully cleaned and cosmetically repaired with no blemishes
A33: for each item. | E33: · No missing parts
D34: C8 | E34: Unused
A35: F4 – Hardware Functional | B35: C6 – Used Excellent | E35: · New, out of box, unused equipment removed from original packaging with no signs of wear or alteration
A36: · All hardware is tested manually or with diagnostic | D36: C9 | E36: New Open Box
A37: software and verified working | E37: · New, unused equipment in original packaging where factory seals have been broken
A38: · No missing or damaged components or parts | E38: · No signs of wear or alteration
A39: · Software not loaded or configured
A40: · No hardware defects
...

Sheet Survey
